Workbook

Sheet Stammdaten
A1: Stammdaten des Antragstellers | AN1: V. 1.0.2 | BD1: Vollst
B3: Die Daten benötigt die SAB für die Entscheidung über Ihren Antrag. Bitte tragen Sie die Daten nach bestem Wissen und Gewissen ein und laden Sie bitte die Berechnungshilfe vollständig im pdf-Format im Förderportal der SAB hoch. Subventionserhebliche Tatsachen sind mit einem Paragrafenzeichen (§) versehen. | AQ3: Hinweise/Bemerkungen
B6: Name/ Bezeichnung: | AQ6: =IF(BD6=1,"Bitte Dateneingabe vornehmen","") -> Bitte Dateneingabe vornehmen | BD6: =IF(I6="",1,0) -> 1
A9: Wirtschaftszweig | B9: Abschnitt: | AQ9: Nutzen Sie bitte das Auswahlmenü oder geben Sie Ihre Wirtschaftszweignummer direkt ein. | BF9: =IF(ISERROR(BI9),0,1) -> 1 | BG9: =I9 -> 0
B11: Abteilung:
B13: Gruppe: | AQ13: Weitere Erläuterungen und ein Stichwortverzeichnis finden Sie hier:
AQ14: Statistisches Bundesamt
B15: Klasse:
B17: Unterklasse: | BF17: =IF(I17="",0,1) -> 0
B19: Ausgewählter | J19: =IF(BF17=1,MID(I17,1,7),"") | O19: oder | R19: händische Eintragung: | AA19: . | AD19: . | AG19: (§) | AQ19: =IF(BD19=1,"Bitte Dateneingabe vornehmen","") -> Bitte Dateneingabe vornehmen | BD19: =IF(AND(J19="",AE19=""),1,0) -> 1 | BG19: =CONCATENATE(Y19,Z19,AA19,AB19,AC19,AD19,AE19) -> ..
B20: Wirtschaftszweig: | Y20: =IFERROR(VLOOKUP(BG19,WZ!G999:H1833,2,FALSE),"") | AQ20: =IF(AND(ISERROR(VLOOKUP(BG19,WZ!G999:H1833,2,FALSE)),BG19<>".."),"Händische Auswahl fehlerhaft","")
B23: Kurze Tätigkeits- beschreibung: | AQ23: =IF(BD23=1,"Bitte Dateneingabe vornehmen","") -> Bitte Dateneingabe vornehmen | BD23: =IF(I23="",1,0) -> 1
B25: Liegen weitere Tätigkeitsschwerpunkte vor (Mischbetrieb)? | AQ25: =IF(BD25=1,"Bitte Auswahl treffen","") -> Bitte Auswahl treffen | BD25: =IF(U25="",1,0) -> 1 | BF25: =IF(U25="Ja",1,0) -> 0
B27: =IF(U25="Ja","Weitere Tätigkeits-schwerpunkte:","") | AQ27: =IF(BD27=1,"Bitte Dateneingabe vornehmen","") | BD27: =IF(AND(BF25=1,I27=""),1,0) -> 0
A29: Genereller Leistungsausschluss | B29: Handelt es sich bei dem Antragsteller um ein öffentliches Unternehmen? | AE29: (§) | AQ29: =IF(BD29=1,"Bitte Auswahl treffen","") -> Bitte Auswahl treffen | BD29: =IF(AA29="",1,0) -> 1 | BE29: =IF(AA29="Ja",1,0) -> 0
B30: (Verbundene Unternehmen sind insoweit ausgeschlossen) | AQ30: Beteiligung am Unternehmen von mehr als 50% durch eine juristische Person des öffentlichen Rechts
B32: Handelt es sich bei dem Antragsteller um ein Kredit- oder Finanzinstitut? (Verbundene Unternehmen sind insoweit ausgeschlossen) | AE32: (§) | AQ32: =IF(BD32=1,"Bitte Auswahl treffen","") -> Bitte Auswahl treffen | BD32: =IF(AA32="",1,0) -> 1 | BE32: =IF(AA32="Ja",1,0) -> 0
B35: Ausgeschlossen sind Unternehmen, gegen die die Europäische Union (EU) Sanktionen verhängt hat, also etwa Unternehmen, die
B36: - in den Rechtsakten, mit denen diese Sanktionen verhängt werden, ausdrücklich genannt sind,
B37: - im Eigentum oder unter Kontrolle von Personen, Organisationen oder Einrichtungen stehen, gegen die die EU Sanktionen verhängt hat, oder
B38: - in Wirtschaftszweigen tätig sind, gegen die die EU Sanktionen verhängt hat, soweit die Beihilfen die Ziele der betreffenden Sanktionen untergraben würden.
B40: Gehört der Antragsteller zu der vorstehenden Gruppe? | AE40: (§) | AQ40: =IF(BD40=1,"Bitte Auswahl treffen","") -> Bitte Auswahl treffen | BD40: =IF(AA40="",1,0) -> 1 | BE40: =IF(AA40="Ja",1,0) -> 0
B41: (Verbundene Unternehmen sind insoweit ausgeschlossen)
B43: =IF(BD43=1,"","Ergebnis:") | F43: =IF($BD$43=1,"",IF($BE$43=1,"Genereller Leistungsausschluss","Kein Leistungsausschluss")) | BD43: =MAX(BD29:BD40) -> 1 | BE43: =MAX(BE29:BE41) -> 0
A45: Leistungsausschluss Stufe 1 | B45: Gilt der Antragsteller seit dem 01.07.2022 als Unternehmen in Schwierigkeiten? | AE45: (§) | AQ45: =IF(BD45=1,"Bitte Auswahl treffen","") -> Bitte Auswahl treffen | BD45: =IF(AA45="",1,0) -> 1 | BE45: =IF(AA45="Ja",1,0) -> 0
AQ46: Insbesondere bei Insolvenzreife oder gestelltem Insolvenzantrag
B47: =IF(BD45=1,"","Ergebnis:") | F47: =IF(BD45=1,"",IF(BE45=1,"Leistungsausschluss Stufe 1","Kein Leistungsausschluss"))
A50: Verbundene Unternehmen und Größeneinteilung | B50: Verbundene Unternehmen sind Unternehmen, die von dem Antragsteller oder von Gesellschaftern des Antragstellers beherrscht werden. Für die Gruppe der verbundenen Unternehmen kann nur ein Antrag gestellt werden. Insofern sind die Daten zu den verbundenen Unternehmen zusammengefasst in die Berechnungshilfe einzugeben, soweit kein Ausschluss vorliegt.
B53: Verbundene Unternehmen (Name und Anschrift der Geschäftsleitung) | Z53: Öffentliches Unternehmen | AD53: Kredit- oder Finanzinstitut | AH53: EU-Sanktionen | AL53: Unternehmen in Schwierigkeiten
B55: 1. | AP55: (§) | AQ55: =IF(BD55=1,"Bitte Dateneingabe vornehmen",IF(BF55=1,"Leistungsausschluss","")) | BD55: =MAX(BG55:BH55) -> 0 | BF55: =IF(OR(Z55="Ja",AD55="JA",AH55="Ja",AL55="Ja"),1,0) -> 0 | BG55: =IF(AND(C55="",OR(Z55<>"",AD55<>"",AH55<>"",AL55<>"")),1,0) -> 0 | BH55: =IF(AND(C55<>"",OR(Z55="",AD55="",AH55="",AL55="")),1,0) -> 0 | BI55: =IF(AND(C55<>"",BD55=0),1,0) -> 0
B57: 2. | AP57: (§) | AQ57: =IF(BD57=1,"Bitte Dateneingabe vornehmen",IF(BF57=1,"Leistungsausschluss","")) | BD57: =MAX(BG57:BH57) -> 0 | BF57: =IF(OR(Z57="Ja",AD57="JA",AH57="Ja",AL57="Ja"),1,0) -> 0 | BG57: =IF(AND(C57="",OR(Z57<>"",AD57<>"",AH57<>"",AL57<>"")),1,0) -> 0 | BH57: =IF(AND(C57<>"",OR(Z57="",AD57="",AH57="",AL57="")),1,0) -> 0 | BI57: =IF(AND(C57<>"",BD57=0),1,0) -> 0
B59: 3. | AP59: (§) | AQ59: =IF(BD59=1,"Bitte Dateneingabe vornehmen",IF(BF59=1,"Leistungsausschluss","")) | BD59: =MAX(BG59:BH59) -> 0 | BF59: =IF(OR(Z59="Ja",AD59="JA",AH59="Ja",AL59="Ja"),1,0) -> 0 | BG59: =IF(AND(C59="",OR(Z59<>"",AD59<>"",AH59<>"",AL59<>"")),1,0) -> 0 | BH59: =IF(AND(C59<>"",OR(Z59="",AD59="",AH59="",AL59="")),1,0) -> 0 | BI59: =IF(AND(C59<>"",BD59=0),1,0) -> 0
B61: 4. | AP61: (§) | AQ61: =IF(BD61=1,"Bitte Dateneingabe vornehmen",IF(BF61=1,"Leistungsausschluss","")) | BD61: =MAX(BG61:BH61) -> 0 | BF61: =IF(OR(Z61="Ja",AD61="JA",AH61="Ja",AL61="Ja"),1,0) -> 0 | BG61: =IF(AND(C61="",OR(Z61<>"",AD61<>"",AH61<>"",AL61<>"")),1,0) -> 0 | BH61: =IF(AND(C61<>"",OR(Z61="",AD61="",AH61="",AL61="")),1,0) -> 0 | BI61: =IF(AND(C61<>"",BD61=0),1,0) -> 0
B63: 5. | AP63: (§) | AQ63: =IF(BD63=1,"Bitte Dateneingabe vornehmen",IF(BF63=1,"Leistungsausschluss","")) | BD63: =MAX(BG63:BH63) -> 0 | BF63: =IF(OR(Z63="Ja",AD63="JA",AH63="Ja",AL63="Ja"),1,0) -> 0 | BG63: =IF(AND(C63="",OR(Z63<>"",AD63<>"",AH63<>"",AL63<>"")),1,0) -> 0 | BH63: =IF(AND(C63<>"",OR(Z63="",AD63="",AH63="",AL63="")),1,0) -> 0 | BI63: =IF(AND(C63<>"",BD63=0),1,0) -> 0
BI64: =MAX(BI55:BI63) -> 0
B66: Es bestehen weitere verbundene Unternehmen | AQ66: =IF(BD66=1,"Bitte Auswahl treffen","") -> Bitte Auswahl treffen | BD66: =IF(Z66="",1,0) -> 1
B67: Diese sind namentlichen in ggf. mehreren Berechnungsbögen der SAB zur Ermittlung des KMU-Größenmerkmals darzustellen.
B69: Sofern es sich bei einem verbundenen Unternehmen um ein öffentliches Unternehmen, ein Kredit- oder Finanzinstitut, oder um ein Unternehmen handelt, dass im Zusammenhang mit EU-Sanktionen ausgeschlossen ist, sind in den Tabellenblättern 'Betriebsstätten', 'Kostenaufstellungen' und 'Stufe 2 und 3' für das betroffene verbundene Unternehmen keine Eingaben vorzunehmen.
B71: Nach der KMU-Definition der EU werden die Unternehmen in vier Größen eingeteilt. Die Größenmerkmale können Sie den rechts verlinkten Dokumenten entnehmen. Bei der Berechnung der Schwellenwerte sind verbundene Unternehmen und Partnerunternehmen zu berücksichtigen. Sofern in den letzten beiden Jahresabschlüssen die Schwellenwerte entweder über- oder unterschritten wurden, erfolgt eine entsprechende Neueinstufung. | AQ71: Weitere Informationen finden Sie hier:
AQ72: KMU Informationsblatt
...

Sheet Betriebsstätten
A1: Stammdaten zu den sächsischen Betriebsstätten | L1: =Stammdaten!AN1 -> V. 1.0.2
A3: Bitte tragen Sie hier die Daten zu den sächsischen Betriebsstätten und in der nachstehenden Zusammenfassung die Werte zu den nicht-sächsischen Betriebsstätten ein. Bei einem Weiterverkauf von Energieträgern von mehr als 5% in 2022 werden die Daten der jeweiligen Betriebsstätte für die weitere Berechnung nicht zugrunde gelegt.
A5: Wie erfolgt die Trennung der Umsätze und Energiekosten zwischen den Betriebsstätten? | H5: (§) | I5: =IF(P5=1,"Bitte Auswahl treffen","") -> Bitte Auswahl treffen | P5: =IF(F5="",1,0) -> 1 | Q5: =IFERROR(VLOOKUP(F5,I_SV!A37:B40,2,FALSE),0) -> 0 | R5: =IF(F5="",1,0) -> 1 | T5: =P5 -> 1
G7: Übernahme für die weitere Berechnung, sofern kein Weiterverkauf
A8: (§) Antragsteller oder verbundenes Unternehmen | B8: Betriebsst.- Nr. | C8: (§) Anschrift (Straße und Hausnummer, PLZ und Ort) | D8: (§) Art der Betriebsstätte nach § 12 AO i.V.m. § 28 GewStG | E8: (§) Weiterverkauf von Energieträgern in 2022 zu mehr als 5% | F8: ggf. abweichender Tätigkeitsschwerpunkt ggü. dem angegebenen Wirtschaftszweig | G8: (§) Umsatz nach § 1 Abs. 1 Nr. 1 UStG (Sollbesteuerung) | I8: (§) Gesamte Energiekosten inkl. Treibstoffe | K8: (§) Summe der Arbeitslöhne nach § 29 GewStG | N8: Hinweise
G9: 2021 | H9: 2022 | I9: 2021 | J9: 2022 | K9: 2021 | L9: 2022
B11: 1 | N11: =IF(T11=1,"Dateneingabe unvollständig","") | P11: =IF(E11="Ja",1,0) -> 0 | Q11: =IF(AND(SUM(G11:L11)<>0,OR(A11="",C11="",D11="",E11="")),1,IF(AND(OR(G11="",H11="",I11="",J11=""),OR(A11<>"",C11<>"",D11<>"",E11<>"")),1,0)) -> 0 | R11: =IF(AND($Q$5=3,SUM(G11:J11)>0,OR(K11="",L11="")),1,0) -> 0 | T11: =IF(AND(SUM(G11:J11)>0,OR(G11="",H11="",I11="",J11="",Q11=1,R11=1)),1,0) -> 0
B12: 2 | N12: =IF(T12=1,"Dateneingabe unvollständig","") | P12: =IF(E12="Ja",1,0) -> 0 | Q12: =IF(AND(SUM(G12:L12)<>0,OR(A12="",C12="",D12="",E12="")),1,IF(AND(OR(G12="",H12="",I12="",J12=""),OR(A12<>"",C12<>"",D12<>"",E12<>"")),1,0)) -> 0 | R12: =IF(AND($Q$5=3,OR(K12="",L12="")),1,0) -> 0 | T12: =IF(AND(SUM(G12:J12)>0,OR(G12="",H12="",I12="",J12="",Q12=1,R12=1)),1,0) -> 0
B13: 3 | N13: =IF(T13=1,"Dateneingabe unvollständig","") | P13: =IF(E13="Ja",1,0) -> 0 | Q13: =IF(AND(SUM(G13:L13)<>0,OR(A13="",C13="",D13="",E13="")),1,IF(AND(OR(G13="",H13="",I13="",J13=""),OR(A13<>"",C13<>"",D13<>"",E13<>"")),1,0)) -> 0 | R13: =IF(AND($Q$5=3,OR(K13="",L13="")),1,0) -> 0 | T13: =IF(AND(SUM(G13:J13)>0,OR(G13="",H13="",I13="",J13="",Q13=1,R13=1)),1,0) -> 0
B14: 4 | N14: =IF(T14=1,"Dateneingabe unvollständig","") | P14: =IF(E14="Ja",1,0) -> 0 | Q14: =IF(AND(SUM(G14:L14)<>0,OR(A14="",C14="",D14="",E14="")),1,IF(AND(OR(G14="",H14="",I14="",J14=""),OR(A14<>"",C14<>"",D14<>"",E14<>"")),1,0)) -> 0 | R14: =IF(AND($Q$5=3,OR(K14="",L14="")),1,0) -> 0 | T14: =IF(AND(SUM(G14:J14)>0,OR(G14="",H14="",I14="",J14="",Q14=1,R14=1)),1,0) -> 0
B15: 5 | N15: =IF(T15=1,"Dateneingabe unvollständig","") | P15: =IF(E15="Ja",1,0) -> 0 | Q15: =IF(AND(SUM(G15:L15)<>0,OR(A15="",C15="",D15="",E15="")),1,IF(AND(OR(G15="",H15="",I15="",J15=""),OR(A15<>"",C15<>"",D15<>"",E15<>"")),1,0)) -> 0 | R15: =IF(AND($Q$5=3,OR(K15="",L15="")),1,0) -> 0 | T15: =IF(AND(SUM(G15:J15)>0,OR(G15="",H15="",I15="",J15="",Q15=1,R15=1)),1,0) -> 0
B16: 6 | N16: =IF(T16=1,"Dateneingabe unvollständig","") | P16: =IF(E16="Ja",1,0) -> 0 | Q16: =IF(AND(SUM(G16:L16)<>0,OR(A16="",C16="",D16="",E16="")),1,IF(AND(OR(G16="",H16="",I16="",J16=""),OR(A16<>"",C16<>"",D16<>"",E16<>"")),1,0)) -> 0 | R16: =IF(AND($Q$5=3,OR(K16="",L16="")),1,0) -> 0 | T16: =IF(AND(SUM(G16:J16)>0,OR(G16="",H16="",I16="",J16="",Q16=1,R16=1)),1,0) -> 0
B17: 7 | N17: =IF(T17=1,"Dateneingabe unvollständig","") | P17: =IF(E17="Ja",1,0) -> 0 | Q17: =IF(AND(SUM(G17:L17)<>0,OR(A17="",C17="",D17="",E17="")),1,IF(AND(OR(G17="",H17="",I17="",J17=""),OR(A17<>"",C17<>"",D17<>"",E17<>"")),1,0)) -> 0 | R17: =IF(AND($Q$5=3,OR(K17="",L17="")),1,0) -> 0 | T17: =IF(AND(SUM(G17:J17)>0,OR(G17="",H17="",I17="",J17="",Q17=1,R17=1)),1,0) -> 0
B18: 8 | N18: =IF(T18=1,"Dateneingabe unvollständig","") | P18: =IF(E18="Ja",1,0) -> 0 | Q18: =IF(AND(SUM(G18:L18)<>0,OR(A18="",C18="",D18="",E18="")),1,IF(AND(OR(G18="",H18="",I18="",J18=""),OR(A18<>"",C18<>"",D18<>"",E18<>"")),1,0)) -> 0 | R18: =IF(AND($Q$5=3,OR(K18="",L18="")),1,0) -> 0 | T18: =IF(AND(SUM(G18:J18)>0,OR(G18="",H18="",I18="",J18="",Q18=1,R18=1)),1,0) -> 0
B19: 9 | N19: =IF(T19=1,"Dateneingabe unvollständig","") | P19: =IF(E19="Ja",1,0) -> 0 | Q19: =IF(AND(SUM(G19:L19)<>0,OR(A19="",C19="",D19="",E19="")),1,IF(AND(OR(G19="",H19="",I19="",J19=""),OR(A19<>"",C19<>"",D19<>"",E19<>"")),1,0)) -> 0 | R19: =IF(AND($Q$5=3,OR(K19="",L19="")),1,0) -> 0 | T19: =IF(AND(SUM(G19:J19)>0,OR(G19="",H19="",I19="",J19="",Q19=1,R19=1)),1,0) -> 0
B20: 10 | N20: =IF(T20=1,"Dateneingabe unvollständig","") | P20: =IF(E20="Ja",1,0) -> 0 | Q20: =IF(AND(SUM(G20:L20)<>0,OR(A20="",C20="",D20="",E20="")),1,IF(AND(OR(G20="",H20="",I20="",J20=""),OR(A20<>"",C20<>"",D20<>"",E20<>"")),1,0)) -> 0 | R20: =IF(AND($Q$5=3,OR(K20="",L20="")),1,0) -> 0 | T20: =IF(AND(SUM(G20:J20)>0,OR(G20="",H20="",I20="",J20="",Q20=1,R20=1)),1,0) -> 0
B21: 11 | N21: =IF(T21=1,"Dateneingabe unvollständig","") | P21: =IF(E21="Ja",1,0) -> 0 | Q21: =IF(AND(SUM(G21:L21)<>0,OR(A21="",C21="",D21="",E21="")),1,IF(AND(OR(G21="",H21="",I21="",J21=""),OR(A21<>"",C21<>"",D21<>"",E21<>"")),1,0)) -> 0 | R21: =IF(AND($Q$5=3,OR(K21="",L21="")),1,0) -> 0 | T21: =IF(AND(SUM(G21:J21)>0,OR(G21="",H21="",I21="",J21="",Q21=1,R21=1)),1,0) -> 0
B22: 12 | N22: =IF(T22=1,"Dateneingabe unvollständig","") | P22: =IF(E22="Ja",1,0) -> 0 | Q22: =IF(AND(SUM(G22:L22)<>0,OR(A22="",C22="",D22="",E22="")),1,IF(AND(OR(G22="",H22="",I22="",J22=""),OR(A22<>"",C22<>"",D22<>"",E22<>"")),1,0)) -> 0 | R22: =IF(AND($Q$5=3,OR(K22="",L22="")),1,0) -> 0 | T22: =IF(AND(SUM(G22:J22)>0,OR(G22="",H22="",I22="",J22="",Q22=1,R22=1)),1,0) -> 0
B23: 13 | N23: =IF(T23=1,"Dateneingabe unvollständig","") | P23: =IF(E23="Ja",1,0) -> 0 | Q23: =IF(AND(SUM(G23:L23)<>0,OR(A23="",C23="",D23="",E23="")),1,IF(AND(OR(G23="",H23="",I23="",J23=""),OR(A23<>"",C23<>"",D23<>"",E23<>"")),1,0)) -> 0 | R23: =IF(AND($Q$5=3,OR(K23="",L23="")),1,0) -> 0 | T23: =IF(AND(SUM(G23:J23)>0,OR(G23="",H23="",I23="",J23="",Q23=1,R23=1)),1,0) -> 0
... B30: 20 | N30: =IF(T30=1,"Dateneingabe unvollständig","") | P30: =IF(E30="Ja",1,0) -> 0 | Q30: =IF(AND(SUM(G30:L30)<>0,OR(A30="",C30="",D30="",E30="")),1,IF(AND(OR(G30="",H30="",I30="",J30=""),OR(A30<>"",C30<>"",D30<>"",E30<>"")),1,0)) -> 0 | R30: =IF(AND($Q$5=3,OR(K30="",L30="")),1,0) -> 0 | T30: =IF(AND(SUM(G30:J30)>0,OR(G30="",H30="",I30="",J30="",Q30=1,R30=1)),1,0) -> 0
A31: Antragsteller | B31: A1 | C31: Weitere Betriebsstätten, die Energieträger nicht weiterverkaufen, laut gesonderter Aufstellung | N31: =IF(T31=1,"Dateneingabe unvollständig","") | P31: 0 | R31: =IF(AND($Q$5=3,OR(K31="",L31="")),1,0) -> 0 | T31: =IF(AND(SUM(G31:J31)>0,OR(G31="",H31="",I31="",J31="",R31=1)),1,0) -> 0
A32: Verbundenes Unternehmen 1 | B32: A2 | C32: Weitere Betriebsstätten, die Energieträger nicht weiterverkaufen, laut gesonderter Aufstellung | N32: =IF(T32=1,"Dateneingabe unvollständig","") | P32: 0 | R32: =IF(AND($Q$5=3,OR(K32="",L32="")),1,0) -> 0 | T32: =IF(AND(SUM(G32:J32)>0,OR(G32="",H32="",I32="",J32="",R32=1)),1,0) -> 0
A33: Verbundenes Unternehmen 2 | B33: A3 | C33: Weitere Betriebsstätten, die Energieträger nicht weiterverkaufen, laut gesonderter Aufstellung | N33: =IF(T33=1,"Dateneingabe unvollständig","") | P33: 0 | R33: =IF(AND($Q$5=3,OR(K33="",L33="")),1,0) -> 0 | T33: =IF(AND(SUM(G33:J33)>0,OR(G33="",H33="",I33="",J33="",R33=1)),1,0) -> 0
A34: Verbundenes Unternehmen 3 | B34: A4 | C34: Weitere Betriebsstätten, die Energieträger nicht weiterverkaufen, laut gesonderter Aufstellung | N34: =IF(T34=1,"Dateneingabe unvollständig","") | P34: 0 | R34: =IF(AND($Q$5=3,OR(K34="",L34="")),1,0) -> 0 | T34: =IF(AND(SUM(G34:J34)>0,OR(G34="",H34="",I34="",J34="",R34=1)),1,0) -> 0
A35: Verbundenes Unternehmen 4 | B35: A5 | C35: Weitere Betriebsstätten, die Energieträger nicht weiterverkaufen, laut gesonderter Aufstellung | N35: =IF(T35=1,"Dateneingabe unvollständig","") | P35: 0 | R35: =IF(AND($Q$5=3,OR(K35="",L35="")),1,0) -> 0 | T35: =IF(AND(SUM(G35:J35)>0,OR(G35="",H35="",I35="",J35="",R35=1)),1,0) -> 0
A36: Verbundenes Unternehmen 5 | B36: A6 | C36: Weitere Betriebsstätten, die Energieträger nicht weiterverkaufen, laut gesonderter Aufstellung | N36: =IF(T36=1,"Dateneingabe unvollständig","") | P36: 0 | R36: =IF(AND($Q$5=3,OR(K36="",L36="")),1,0) -> 0 | T36: =IF(AND(SUM(G36:J36)>0,OR(G36="",H36="",I36="",J36="",R36=1)),1,0) -> 0
A37: Summen ohne Betriebsstätten mit Weiterverkauf von mehr als 5% der in 2022 erworbenen Energieträger (§) | G37: =SUMIFS(G$11:G$36,$P$11:$P$36,0) -> 0 | H37: =SUMIFS(H$11:H$36,$P$11:$P$36,0) -> 0 | I37: =SUMIFS(I$11:I$36,$P$11:$P$36,0) -> 0 | J37: =SUMIFS(J$11:J$36,$P$11:$P$36,0) -> 0 | K37: =SUMIFS(K$11:K$36,$P$11:$P$36,0) -> 0 | L37: =SUMIFS(L$11:L$36,$P$11:$P$36,0) -> 0 | N37: =IF(T37=1,"Dateneingabe unvollständig","") -> Dateneingabe unvollständig | P37: =SUM(G37+G39) -> 0 | Q37: =H37+H39 -> 0 | T37: =IF(SUM(G37:J37)=0,1,0) -> 1
P38: =I37+I39 -> 0 | Q38: =J37+J39 -> 0
A39: Nachrichtlich: Summen der Betriebsstätten mit Weiterverkauf von mehr als 5%, die für die weitere Berechnung nicht berücksichtigt werden | G39: =SUMIFS(G$11:G$36,$P$11:$P$36,1) -> 0 | H39: =SUMIFS(H$11:H$36,$P$11:$P$36,1) -> 0 | I39: =SUMIFS(I$11:I$36,$P$11:$P$36,1) -> 0 | J39: =SUMIFS(J$11:J$36,$P$11:$P$36,1) -> 0 | K39: =SUMIFS(K$11:K$36,$P$11:$P$36,1) -> 0 | L39: =SUMIFS(L$11:L$36,$P$11:$P$36,1) -> 0
F41: Zusammenfassung der Daten nach Antragsteller und verbundenem Unternehmen
F42: Bitte tragen Sie in die gelben Felder die zusammengefassten Daten der nicht-sächsischen Betriebsstätten ein.
G44: Umsatz | I44: Gesamte Energiekosten | K44: Summe der Arbeitslöhne
G45: 2021 | H45: 2022 | I45: 2021 | J45: 2022 | K45: 2021 | L45: 2022
F47: Antragsteller
F48: Nicht-sächsische Betriebsstätten (§) | N48: =IF(R48=1,"Dateneingabe unvollständig","") | P48: =IF(AND(P50>0,$Q$5<>4,OR(G48="",H48="",I48="",J48="")),1,0) -> 0 | Q48: =IF(AND(P50>0,$Q$5=3,OR(K48="",L48="")),1,0) -> 0 | R48: =MAX(P48:Q48) -> 0 | T48: =R48 -> 0
F49: Sächsische Betriebsstätten | G49: =SUMIFS(G$11:G$36,$A$11:$A$36,"Antragsteller",$P$11:$P$36,0) -> 0 | H49: =SUMIFS(H$11:H$36,$A$11:$A$36,"Antragsteller",$P$11:$P$36,0) -> 0 | I49: =SUMIFS(I$11:I$36,$A$11:$A$36,"Antragsteller",$P$11:$P$36,0) -> 0 | J49: =SUMIFS(J$11:J$36,$A$11:$A$36,"Antragsteller",$P$11:$P$36,0) -> 0 | K49: =SUMIFS(K$11:K$36,$A$11:$A$36,"Antragsteller",$P$11:$P$36,0) -> 0 | L49: =SUMIFS(L$11:L$36,$A$11:$A$36,"Antragsteller",$P$11:$P$36,0) -> 0
F50: Insgesamt | G50: =SUM(G48:G49) -> 0 | H50: =SUM(H48:H49) -> 0 | I50: =SUM(I48:I49) -> 0 | J50: =SUM(J48:J49) -> 0 | K50: =SUM(K48:K49) -> 0 | L50: =SUM(L48:L49) -> 0 | P50: =SUM(G50:L50) -> 0
F51: Anteil sächsischer Betriebsstätten | G51: =IFERROR(ROUND(G49/G50,4),"") | H51: =IFERROR(ROUND(H49/H50,4),"") | I51: =IFERROR(ROUND(I49/I50,4),"") | J51: =IFERROR(ROUND(J49/J50,4),"") | K51: =IF($Q$5=3,IFERROR(ROUND(K49/K50,4),""),"") | L51: =IF($Q$5=3,IFERROR(ROUND(L49/L50,4),""),"") | N51: =IFERROR(IF(AND($Q$5=3,MAX(P51:Q51)=1),"Aufteilung unstimmig",""),"") | P51: =IF(AND($Q$5=3,((G51+I51)/2)<>K51),1,0) -> #VALUE! | Q51: =IF(AND($Q$5=3,((H51+J51)/2)<>L51),1,0) -> #VALUE! | R51: =IF(AND($Q$5=3,K48<>"",L48<>""),1,0) -> 0
F53: Verbundenes Unternehmen 1 | G53: s. Tabelle 'Stammdaten'
F54: Nicht-sächsische Betriebsstätten (§) | N54: =IF(R54=1,"Dateneingabe unvollständig","") | P54: =IF(AND(P56>0,$Q$5<>4,OR(G54="",H54="",I54="",J54="")),1,0) -> 0 | Q54: =IF(AND(P56>0,$Q$5=3,OR(K54="",L54="")),1,0) -> 0 | R54: =MAX(P54:Q54) -> 0 | T54: =R54 -> 0
...

Sheet Kostenaufstellungen
A1: Aufstellung der leistungsberechtigten Kosten und der Jahresverbräuche 2021 und 2022 der sächsischen Betriebsstätten | H1: =Stammdaten!AN1 -> V. 1.0.2
B3: Bitte machen Sie nur Angaben zu den Energieträgern, für die Sie einen Zuschuss beantragen möchten und wählen Sie bitte das betreffende Unternehmen aus und ergänzen die Daten der Zeile. Alternativ können Sie auch die zusammengefassten Daten in einer gesonderten Anlage zusammenstellen (z. B. Konto des Energieträgers aus der Buchführung oder der Kosten- und Leistungsrechnung mit Angabe zum Energieversorgungsunternehmen) und hier nur die bezogene Menge und den Verkaufspreis eintragen. Treibstoffe für Fahrzeuge (z. B. Diesel, Benzin, LNG, Wasserstoff) sind nicht leistungsberechtigt.
I6: Hinweise
A8: a) Leitungsgebundenes Erdgas
B10: (§) Antragsteller oder verbundenes Unternehmen | C10: Lieferjahr | D10: Rechnungs-datum | E10: Energieversorgungsunternehmen | F10: (§) Bezogene Menge in vollen kWh | G10: (§) Aufwendungen in Euro
C12: 2021 | I12: =IF(M12=1,"Dateneingabe unvollständig","") | K12: =IF(AND(SUM(F12:G12)<>0,OR(B12="",D12="",E12="")),1,IF(AND(SUM(F12:G12)=0,OR(B12<>"",D12<>"",E12<>"")),1,0)) -> 0 | L12: =IF(OR(AND(F12<>0,G12=0),AND(G12<>0,F12=0)),1,0) -> 0 | M12: =MAX(K12:L12) -> 0
C13: 2021 | I13: =IF(M13=1,"Dateneingabe unvollständig","") | K13: =IF(AND(SUM(F13:G13)<>0,OR(B13="",D13="",E13="")),1,IF(AND(SUM(F13:G13)=0,OR(B13<>"",D13<>"",E13<>"")),1,0)) -> 0 | L13: =IF(OR(AND(F13<>0,G13=0),AND(G13<>0,F13=0)),1,0) -> 0 | M13: =MAX(K13:L13) -> 0
C14: 2021 | I14: =IF(M14=1,"Dateneingabe unvollständig","") | K14: =IF(AND(SUM(F14:G14)<>0,OR(B14="",D14="",E14="")),1,IF(AND(SUM(F14:G14)=0,OR(B14<>"",D14<>"",E14<>"")),1,0)) -> 0 | L14: =IF(OR(AND(F14<>0,G14=0),AND(G14<>0,F14=0)),1,0) -> 0 | M14: =MAX(K14:L14) -> 0
C15: 2021 | I15: =IF(M15=1,"Dateneingabe unvollständig","") | K15: =IF(AND(SUM(F15:G15)<>0,OR(B15="",D15="",E15="")),1,IF(AND(SUM(F15:G15)=0,OR(B15<>"",D15<>"",E15<>"")),1,0)) -> 0 | L15: =IF(OR(AND(F15<>0,G15=0),AND(G15<>0,F15=0)),1,0) -> 0 | M15: =MAX(K15:L15) -> 0
C16: 2021 | I16: =IF(M16=1,"Dateneingabe unvollständig","") | K16: =IF(AND(SUM(F16:G16)<>0,OR(B16="",D16="",E16="")),1,IF(AND(SUM(F16:G16)=0,OR(B16<>"",D16<>"",E16<>"")),1,0)) -> 0 | L16: =IF(OR(AND(F16<>0,G16=0),AND(G16<>0,F16=0)),1,0) -> 0 | M16: =MAX(K16:L16) -> 0
C17: 2021 | I17: =IF(M17=1,"Dateneingabe unvollständig","") | K17: =IF(AND(SUM(F17:G17)<>0,OR(B17="",D17="",E17="")),1,IF(AND(SUM(F17:G17)=0,OR(B17<>"",D17<>"",E17<>"")),1,0)) -> 0 | L17: =IF(OR(AND(F17<>0,G17=0),AND(G17<>0,F17=0)),1,0) -> 0 | M17: =MAX(K17:L17) -> 0
C18: 2021 | I18: =IF(M18=1,"Dateneingabe unvollständig","") | K18: =IF(AND(SUM(F18:G18)<>0,OR(B18="",D18="",E18="")),1,IF(AND(SUM(F18:G18)=0,OR(B18<>"",D18<>"",E18<>"")),1,0)) -> 0 | L18: =IF(OR(AND(F18<>0,G18=0),AND(G18<>0,F18=0)),1,0) -> 0 | M18: =MAX(K18:L18) -> 0
C19: 2021 | I19: =IF(M19=1,"Dateneingabe unvollständig","") | K19: =IF(AND(SUM(F19:G19)<>0,OR(B19="",D19="",E19="")),1,IF(AND(SUM(F19:G19)=0,OR(B19<>"",D19<>"",E19<>"")),1,0)) -> 0 | L19: =IF(OR(AND(F19<>0,G19=0),AND(G19<>0,F19=0)),1,0) -> 0 | M19: =MAX(K19:L19) -> 0
C20: 2021 | I20: =IF(M20=1,"Dateneingabe unvollständig","") | K20: =IF(AND(SUM(F20:G20)<>0,OR(B20="",D20="",E20="")),1,IF(AND(SUM(F20:G20)=0,OR(B20<>"",D20<>"",E20<>"")),1,0)) -> 0 | L20: =IF(OR(AND(F20<>0,G20=0),AND(G20<>0,F20=0)),1,0) -> 0 | M20: =MAX(K20:L20) -> 0
C21: 2021 | I21: =IF(M21=1,"Dateneingabe unvollständig","") | K21: =IF(AND(SUM(F21:G21)<>0,OR(B21="",D21="",E21="")),1,IF(AND(SUM(F21:G21)=0,OR(B21<>"",D21<>"",E21<>"")),1,0)) -> 0 | L21: =IF(OR(AND(F21<>0,G21=0),AND(G21<>0,F21=0)),1,0) -> 0 | M21: =MAX(K21:L21) -> 0
B22: Antragsteller | C22: 2021 | D22: Alternativ: Zusammengefasste Daten laut gesonderter Anlage (z. B. Konto des Energieträgers aus der Buchführung oder der Kosten- und Leistungsrechnung mit Angabe zum Energieversorgungsunternehmen) | I22: =IF(M22=1,"Dateneingabe unvollständig","") | L22: =IF(OR(AND(F22<>0,G22=0),AND(G22<>0,F22=0)),1,0) -> 0 | M22: =MAX(K22:L22) -> 0
B23: Verbundenes Unternehmen 1 | C23: 2021 | I23: =IF(M23=1,"Dateneingabe unvollständig","") | L23: =IF(OR(AND(F23<>0,G23=0),AND(G23<>0,F23=0)),1,0) -> 0 | M23: =MAX(K23:L23) -> 0
B24: Verbundenes Unternehmen 2 | C24: 2021 | I24: =IF(M24=1,"Dateneingabe unvollständig","") | L24: =IF(OR(AND(F24<>0,G24=0),AND(G24<>0,F24=0)),1,0) -> 0 | M24: =MAX(K24:L24) -> 0
B25: Verbundenes Unternehmen 3 | C25: 2021 | I25: =IF(M25=1,"Dateneingabe unvollständig","") | L25: =IF(OR(AND(F25<>0,G25=0),AND(G25<>0,F25=0)),1,0) -> 0 | M25: =MAX(K25:L25) -> 0
B26: Verbundenes Unternehmen 4 | C26: 2021 | I26: =IF(M26=1,"Dateneingabe unvollständig","") | L26: =IF(OR(AND(F26<>0,G26=0),AND(G26<>0,F26=0)),1,0) -> 0 | M26: =MAX(K26:L26) -> 0
B27: Verbundenes Unternehmen 5 | C27: 2021 | I27: =IF(M27=1,"Dateneingabe unvollständig","") | L27: =IF(OR(AND(F27<>0,G27=0),AND(G27<>0,F27=0)),1,0) -> 0 | M27: =MAX(K27:L27) -> 0
E28: Zwischensummen | F28: =IF(OR(M28=1,SUM(F12:F27)=0),"Dateneingabe fehlt",SUM(F12:F27)) -> Dateneingabe fehlt | G28: =IF(OR(M28=1,SUM(G12:G27)=0),"Dateneingabe fehlt",SUM(G12:G27)) -> Dateneingabe fehlt | H28: 1 | I28: =IF(P28=1,"Bitte Dateneingabe vornehmen","") | M28: =MAX(M12:M27) -> 0 | O28: =M28 -> 0 | P28: =IF(AND(SUM(F28:G28)=0,SUM(F61:G62)>0),1,0) -> 0 | Q28: =F28 -> Dateneingabe fehlt
F29: Übernahme für die weitere Berechnung
E31: (§) abzüglich erstattete Gebühren und Steuern, soweit nicht bei den Aufwendungen berücksichtigt
E32: Gebühren | I32: Erstattungsbeträge bitte positiv eingeben
E33: Vorsteuer
E34: Boni, Skonti
E35: Zwischensumme | G35: =SUM(G32:G34) -> 0 | H35: 2
G37: =IFERROR(G28-G35,"Dateneingabe fehlt") -> Dateneingabe fehlt
E39: Durchschnittseinkaufspreis 2021 | F39: =IFERROR(G37/F28,"Dateneingabe fehlt") -> Dateneingabe fehlt | G39: €/kWh
E40: Übernahme für die weitere Berechnung
B43: (§) Antragsteller oder verbundenes Unternehmen | C43: Lieferjahr | D43: Rechnungs-datum | E43: Energieversorgungsunternehmen | F43: (§) Bezogene Menge in vollen kWh | G43: (§) Aufwendungen in Euro
C45: 2022 | I45: =IF(M45=1,"Dateneingabe unvollständig","") | K45: =IF(AND(SUM(F45:G45)<>0,OR(B45="",D45="",E45="")),1,IF(AND(SUM(F45:G45)=0,OR(B45<>"",D45<>"",E45<>"")),1,0)) -> 0 | L45: =IF(OR(AND(F45<>0,G45=0),AND(G45<>0,F45=0)),1,0) -> 0 | M45: =MAX(K45:L45) -> 0
C46: 2022 | I46: =IF(M46=1,"Dateneingabe unvollständig","") | K46: =IF(AND(SUM(F46:G46)<>0,OR(B46="",D46="",E46="")),1,IF(AND(SUM(F46:G46)=0,OR(B46<>"",D46<>"",E46<>"")),1,0)) -> 0 | L46: =IF(OR(AND(F46<>0,G46=0),AND(G46<>0,F46=0)),1,0) -> 0 | M46: =MAX(K46:L46) -> 0
C47: 2022 | I47: =IF(M47=1,"Dateneingabe unvollständig","") | K47: =IF(AND(SUM(F47:G47)<>0,OR(B47="",D47="",E47="")),1,IF(AND(SUM(F47:G47)=0,OR(B47<>"",D47<>"",E47<>"")),1,0)) -> 0 | L47: =IF(OR(AND(F47<>0,G47=0),AND(G47<>0,F47=0)),1,0) -> 0 | M47: =MAX(K47:L47) -> 0
C48: 2022 | I48: =IF(M48=1,"Dateneingabe unvollständig","") | K48: =IF(AND(SUM(F48:G48)<>0,OR(B48="",D48="",E48="")),1,IF(AND(SUM(F48:G48)=0,OR(B48<>"",D48<>"",E48<>"")),1,0)) -> 0 | L48: =IF(OR(AND(F48<>0,G48=0),AND(G48<>0,F48=0)),1,0) -> 0 | M48: =MAX(K48:L48) -> 0
C49: 2022 | I49: =IF(M49=1,"Dateneingabe unvollständig","") | K49: =IF(AND(SUM(F49:G49)<>0,OR(B49="",D49="",E49="")),1,IF(AND(SUM(F49:G49)=0,OR(B49<>"",D49<>"",E49<>"")),1,0)) -> 0 | L49: =IF(OR(AND(F49<>0,G49=0),AND(G49<>0,F49=0)),1,0) -> 0 | M49: =MAX(K49:L49) -> 0
C50: 2022 | I50: =IF(M50=1,"Dateneingabe unvollständig","") | K50: =IF(AND(SUM(F50:G50)<>0,OR(B50="",D50="",E50="")),1,IF(AND(SUM(F50:G50)=0,OR(B50<>"",D50<>"",E50<>"")),1,0)) -> 0 | L50: =IF(OR(AND(F50<>0,G50=0),AND(G50<>0,F50=0)),1,0) -> 0 | M50: =MAX(K50:L50) -> 0
C51: 2022 | I51: =IF(M51=1,"Dateneingabe unvollständig","") | K51: =IF(AND(SUM(F51:G51)<>0,OR(B51="",D51="",E51="")),1,IF(AND(SUM(F51:G51)=0,OR(B51<>"",D51<>"",E51<>"")),1,0)) -> 0 | L51: =IF(OR(AND(F51<>0,G51=0),AND(G51<>0,F51=0)),1,0) -> 0 | M51: =MAX(K51:L51) -> 0
C52: 2022 | I52: =IF(M52=1,"Dateneingabe unvollständig","") | K52: =IF(AND(SUM(F52:G52)<>0,OR(B52="",D52="",E52="")),1,IF(AND(SUM(F52:G52)=0,OR(B52<>"",D52<>"",E52<>"")),1,0)) -> 0 | L52: =IF(OR(AND(F52<>0,G52=0),AND(G52<>0,F52=0)),1,0) -> 0 | M52: =MAX(K52:L52) -> 0
...

Sheet Stufe 1
A1: Stufe 1 - Härtefallhilfe 2022 | J1: =Stammdaten!AN1 -> V. 1.0.2
D3: 2021 | F3: 2022 | H3: Hinweise/Berechnungsergebnisse | J3: Voraussichtlicher Leistungsbetrag vor Höchstbetrag
A5: Gesamte Energiekosten (alle Energieträger) | D5: =Betriebsstätten!I37 -> 0 | F5: =Betriebsstätten!J37 -> 0 | H5: Eingaben sind im Tabellenblatt "Betriebsstätten" vorzunehmen
A6: Umsatz nach § 1 Abs. 1 Nr. 1 Umsatzsteuergesetz (Sollversteuerung) | D6: =Betriebsstätten!G37 -> 0 | F6: =Betriebsstätten!H37 -> 0
A7: Energieintensität (gesamte Energiekosten) | D7: =IF(D5=0,"Dateneingabe fehlt",IF(ISERROR(D5/D6),"Dateneingabe fehlt",D5/D6)) -> Dateneingabe fehlt | F7: =IF(F5=0,"Dateneingabe fehlt",IF(ISERROR(F5/F6),"Dateneingabe fehlt",F5/F6)) -> Dateneingabe fehlt
A8: Prüfung: Preisweitergabe der Energiekosten | B8: =IF(ISERROR(D7/F7),"",IF(F7<=((3*D7)/(1+3*D7)),"Leistungsschädliche Preisweitergabe in 2022 liegt vor","Keine leistungsschädliche Preisweitergabe in 2022")) | M8: =IF(ISERROR(D7/F7),"Dateneingabe fehlt",IF(F7<=((3*D7)/(1+3*D7)),1,0)) -> Dateneingabe fehlt
A10: Sonstige Leistungsausschlüsse | B10: =IF(M10=1,"Genereller Leistungsausschluss (vgl. Zeilen 29 bis 41 im Tabellenblatt 'Stammdaten')","") | M10: =IF(Stammdaten!BD43=1,0,IF(Stammdaten!BE43=1,1,0)) -> 0
B11: =IF(M11=1,"Unternehmen in Schwierigkeiten (vgl. Zeile 45 im Tabellenblatt 'Stammdaten')","") | M11: =IF(Stammdaten!BD45=1,0,IF(Stammdaten!BE45=1,1,0)) -> 0
B12: =IF(M12=1,"Großbetrieb (vgl. Zeile 75 im Tabellenblatt 'Stammdaten')","") | M12: =IF(Stammdaten!BF75=4,1,0) -> 0
L13: =MAX(M8:M12) -> 0 | M13: =MAX(M10:M12) -> 0
A15: Kategorie A (Leitungsgebundenes Erdgas, Fernwärme und Strom)
A17: a) Erdgas
A18: Durchschnittseinkaufspreis pro kWh | D18: =Kostenaufstellungen!F39 -> Dateneingabe fehlt | F18: =Kostenaufstellungen!F72 -> Dateneingabe fehlt | H18: Eingaben sind im Tabellenblatt "Kostenaufstellung" vorzunehmen
A19: Jahresverbrauch in kWh | D19: =IF(Kostenaufstellungen!F28=0,"Dateneingabe fehlt",Kostenaufstellungen!F28) -> Dateneingabe fehlt | F19: =IF(Kostenaufstellungen!F61=0,"Dateneingabe fehlt",Kostenaufstellungen!F61) -> Dateneingabe fehlt
A20: Faktor Preiserhöhung 2022 zu 2021 | F20: =IF($F$7="Dateneingabe fehlt","Dateneingabe fehlt",IF(ISERROR(F18/D18),"Dateneingabe fehlt",F18/D18)) -> Dateneingabe fehlt | H20: =IF(F20="Dateneingabe fehlt","",IF(F20>=3,"Mindestpreissteigerung erreicht","Preissteigerung zu niedrig")) | M20: =IF(F20>=3,0,1) -> 0 | N20: =IF(F20="Dateneingabe fehlt",1,0) -> 1
A21: Betroffenheitsgrad 2022 für diesen Energieträger | F21: =IF($D$7="Dateneingabe fehlt","Dateneingabe fehlt",IF(F20="Dateneingabe fehlt","Dateneingabe fehlt",F18/D18*$D$7)) -> Dateneingabe fehlt | H21: =IF(OR(F20="Dateneingabe fehlt",F21="Dateneingabe fehlt"),"",IF(F21>=0.2,"Mindestbetroffenheitsgrad erreicht","Betroffenheitsgrad zu niedrig")) | M21: =IF(F21>=0.2,0,1) -> 0 | N21: =IF(F21="Dateneingabe fehlt",1,0) -> 1
A22: Voraussichtlicher Leistungsbetrag vor Höchstbetrag | B22: 1/12 des Jahresverbauchs 2022 multipliziert mit dem durchschnittlichen Einkaufspreis 2022 | F22: =IFERROR(IF(AND(N22>0,N22<2500),N22,""),"") | H22: =IFERROR(IF(OR(F20="Dateneingabe fehlt",N22=0),"",IF(N22<2500,"Bagatellgrenze von 2.500 € nicht erreicht","")),"") | J22: =IF(ISERROR(N22),0,IF(AND(SUM(N20:N21)=0,N22>=2500),N22,0)) -> 0 | N22: =IF(L13=1,0,IF(SUM(M20:M21)=0,F18*F19/12,0)) -> #VALUE!
A24: b) Fernwärme
A25: Durchschnittseinkaufspreis pro kWh | D25: =Kostenaufstellungen!F107 -> Dateneingabe fehlt | F25: =Kostenaufstellungen!F140 -> Dateneingabe fehlt | H25: Eingaben sind im Tabellenblatt "Kostenaufstellung" vorzunehmen
A26: Jahresverbrauch in kWh | D26: =Kostenaufstellungen!F96 -> Dateneingabe fehlt | F26: =Kostenaufstellungen!F129 -> Dateneingabe fehlt
A27: Faktor Preiserhöhung 2022 zu 2021 | F27: =IF($F$7="Dateneingabe fehlt","Dateneingabe fehlt",IF(ISERROR(F25/D25),"Dateneingabe fehlt",F25/D25)) -> Dateneingabe fehlt | H27: =IF(F27="Dateneingabe fehlt","",IF(F27>=3,"Mindestpreissteigerung erreicht","Preissteigerung zu niedrig")) | M27: =IF(F27>=3,0,1) -> 0 | N27: =IF(F27="Dateneingabe fehlt",1,0) -> 1
A28: Betroffenheitsgrad 2022 für diesen Energieträger | F28: =IF($D$7="Dateneingabe fehlt","Dateneingabe fehlt",IF(F27="Dateneingabe fehlt","Dateneingabe fehlt",F25/D25*$D$7)) -> Dateneingabe fehlt | H28: =IF(OR(F27="Dateneingabe fehlt",F28="Dateneingabe fehlt"),"",IF(F28>=0.2,"Mindestbetroffenheitsgrad erreicht","Betroffenheitsgrad zu niedrig")) | M28: =IF(F28>=0.2,0,1) -> 0 | N28: =IF(F28="Dateneingabe fehlt",1,0) -> 1
A29: Voraussichtlicher Leistungsbetrag vor Höchstbetrag | B29: 1/12 des Jahresverbauchs 2022 multipliziert mit dem durchschnittlichen Einkaufspreis 2022 | F29: =IFERROR(IF(AND(N29>0,N29<2500),N29,""),"") | H29: =IFERROR(IF(OR(F27="Dateneingabe fehlt",N29=0),"",IF(N29<2500,"Bagatellgrenze von 2.500 € nicht erreicht","")),"") | J29: =IF(ISERROR(N29),0,IF(AND(SUM(N27:N28)=0,N29>=2500),N29,0)) -> 0 | N29: =IF(L13=1,0,IF(SUM(M27:M28)=0,F25*F26/12,0)) -> #VALUE!
A31: c) Strom
A32: Durchschnittseinkaufspreis pro kWh | D32: =Kostenaufstellungen!F175 -> Dateneingabe fehlt | F32: =Kostenaufstellungen!F208 -> Dateneingabe fehlt | H32: Eingaben sind im Tabellenblatt "Kostenaufstellung" vorzunehmen
A33: Jahresverbrauch in kWh | D33: =Kostenaufstellungen!F164 -> Dateneingabe fehlt | F33: =Kostenaufstellungen!F197 -> Dateneingabe fehlt
A34: Faktor Preiserhöhung 2022 zu 2021 | F34: =IF($F$7="Dateneingabe fehlt","Dateneingabe fehlt",IF(ISERROR(F32/D32),"Dateneingabe fehlt",F32/D32)) -> Dateneingabe fehlt | H34: =IF(F34="Dateneingabe fehlt","",IF(F34>=3,"Mindestpreissteigerung erreicht","Preissteigerung zu niedrig")) | L34: 6 | M34: =IF(F34>=3,0,1) -> 0 | N34: =IF(F34="Dateneingabe fehlt",1,0) -> 1
A35: Betroffenheitsgrad 2022 für diesen Energieträger | F35: =IF($D$7="Dateneingabe fehlt","Dateneingabe fehlt",IF(F34="Dateneingabe fehlt","Dateneingabe fehlt",F32/D32*$D$7)) -> Dateneingabe fehlt | H35: =IF(OR(F34="Dateneingabe fehlt",F35="Dateneingabe fehlt"),"",IF(F35>=0.2,"Mindestbetroffenheitsgrad erreicht","Betroffenheitsgrad zu niedrig")) | M35: =IF(F35>=0.2,0,1) -> 0 | N35: =IF(F35="Dateneingabe fehlt",1,0) -> 1
A36: Voraussichtlicher Leistungsbetrag vor Höchstbetrag | B36: 2/12 des Jahresverbauchs 2022 multipliziert mit dem durchschnittlichen Einkaufspreis 2022 | F36: =IFERROR(IF(AND(N36>0,N36<2500),N36,""),"") | H36: =IFERROR(IF(OR(F34="Dateneingabe fehlt",N36=0),"",IF(N36<2500,"Bagatellgrenze von 2.500 € nicht erreicht","")),"") | J36: =IF(ISERROR(N36),0,IF(AND(SUM(N34:N35)=0,N36>=2500),N36,0)) -> 0 | N36: =IF(L13=1,0,IF(SUM(M34:M35)=0,F32*F33/6,0)) -> #VALUE!
A39: Kategorie B (andere Energieträger außer leitungsgebundenes Erdgas und Strom sowie Treibstoffe für Fahrzeuge)
A41: d) Anderer Energieträger 1 | B41: =IF(Kostenaufstellungen!E212="","",Kostenaufstellungen!E212)
A43: Handelseinheit: | B43: =IF(Kostenaufstellungen!L214=0,"",Kostenaufstellungen!L214) | H43: Eingaben sind im Tabellenblatt "Kostenaufstellung" vorzunehmen
A44: =CONCATENATE("Durchschnittseinkaufspreis pro ",IF(Kostenaufstellungen!L214=0,"Handelseinheit",Kostenaufstellungen!L214)) -> Durchschnittseinkaufspreis pro Handelseinheit | D44: =Kostenaufstellungen!F251 -> Dateneingabe fehlt | F44: =Kostenaufstellungen!F290 -> Dateneingabe fehlt
A45: =CONCATENATE("Jahresverbrauch in ",IF(Kostenaufstellungen!L214=0,"Handelseinheit",Kostenaufstellungen!L214)) -> Jahresverbrauch in Handelseinheit | D45: =IF(Kostenaufstellungen!F240=0,"Dateneingabe fehlt",Kostenaufstellungen!F240) -> Dateneingabe fehlt | F45: =IF(Kostenaufstellungen!F279=0,"Dateneingabe fehlt",Kostenaufstellungen!F279) -> Dateneingabe fehlt
A46: Faktor Preiserhöhung 2022 zu 2021 | F46: =IF($F$7="Dateneingabe fehlt","Dateneingabe fehlt",IF(ISERROR(F44/D44),"Dateneingabe fehlt",F44/D44)) -> Dateneingabe fehlt | H46: =IF(F46="Dateneingabe fehlt","",IF(F46>=3,"Mindestpreissteigerung erreicht","Preissteigerung zu niedrig")) | M46: =IF(F46>=3,0,1) -> 0 | N46: =IF(F46="Dateneingabe fehlt",1,0) -> 1
A47: Betroffenheitsgrad 2022 für diesen Energieträger | F47: =IF($D$7="Dateneingabe fehlt","Dateneingabe fehlt",IF(F46="Dateneingabe fehlt","Dateneingabe fehlt",F44/D44*$D$7)) -> Dateneingabe fehlt | H47: =IF(OR(F46="Dateneingabe fehlt",F47="Dateneingabe fehlt"),"",IF(F47>=0.2,"Mindestbetroffenheitsgrad erreicht","Betroffenheitsgrad zu niedrig")) | M47: =IF(F47>=0.2,0,1) -> 0 | N47: =IF(F47="Dateneingabe fehlt",1,0) -> 1
A48: Voraussichtlicher Leistungsbetrag vor Höchstbetrag | B48: 2/12 des Jahresverbauchs 2022 multipliziert mit dem durchschnittlichen Einkaufspreis 2022 | F48: =IFERROR(IF(AND(N48>0,N48<2500),N48,""),"") | H48: =IFERROR(IF(OR(F46="Dateneingabe fehlt",N48=0),"",IF(N48<2500,"Bagatellgrenze von 2.500 € nicht erreicht","")),"") | J48: =IF(ISERROR(N48),0,IF(AND(SUM(N46:N47)=0,N48>=2500),N48,0)) -> 0 | N48: =IF(L13=1,0,IF(SUM(M46:M47)=0,F44*F45/6,0)) -> #VALUE!
A50: e) Anderer Energieträger 2 | B50: =IF(Kostenaufstellungen!E294="","",Kostenaufstellungen!E294)
A51: Handelseinheit | B51: =IF(Kostenaufstellungen!G294=0,"",Kostenaufstellungen!G294) | H51: Eingaben sind im Tabellenblatt "Kostenaufstellung" vorzunehmen
A52: =CONCATENATE("Durchschnittseinkaufspreis pro ",IF(Kostenaufstellungen!L296=0,"Handelseinheit",Kostenaufstellungen!L296)) -> Durchschnittseinkaufspreis pro Handelseinheit | D52: =Kostenaufstellungen!F333 -> Dateneingabe fehlt | F52: =Kostenaufstellungen!F372 -> Dateneingabe fehlt
...

Sheet Stufe 2 und 3
A1: Stufe 2 - Härtefallhilfe Plus 2022 | L1: =Stammdaten!AN1 -> V. 1.0.2 | S1: Vollst
A3: Liegen Verluste für den Zeitraum Juli bis Dezember 2022 vor und möchten Sie einen Antrag nach Stufe 2 | F3: Nein | P3: =IF(F3="Ja",1,0) -> 0
A4: oder für die Härtefallkommission (Stufe 3) stellen?
A6: Ermittlung des maßgeblichen Energieintensität (Energiekosten im Verhältnis zum Umsatz)
A8: Energieintensität 2021 | B8: =IF(P8=1,"Daten fehlen",'Stufe 1'!D7) -> Daten fehlen | D8: vgl. Tabellenblatt 'Stufe 1' | P8: =IF('Stufe 1'!D7="Dateneingabe fehlt",1,0) -> 1 | S8: =P8 -> 1
A10: (§) Alternativ: Energieintensität 2020 | B10: Nein | D10: =IF(P10=1,"(§) Höhe:","") | H10: =IF(S10=1,"Dateneingabe unvollständig","") | P10: =IF(B10="Ja",1,0) -> 0 | Q10: =IF(P10=1,F10,IF(P8=1,0,B8)) -> 0 | R10: =IF(P8=1,IF(P10=1,F10,0),B8) -> 0 | S10: =IF(AND(P10=1,OR(Q10=0,B12="")),1,0) -> 0
A12: =IF(P10=1,"(§) Begründung, für die Berücksichtigung der Energieintensität 2020:","")
B16: Ergebnis: | C16: =IF(OR(B8="Daten fehlen",F10="Daten fehlen"),"",IF(OR(B8>=0.05,AND(P10=1,F10>=0.05)),"Mindestenergieintensität erfüllt","Mindestenergieintensität nicht erfüllt")) | G16: 1 | I16: Übernommener Wert: | L16: =Q16 -> 0 | Q16: =MAX(Q10:R10) -> 0
A19: Ermittlung der leistungsfähigen Kosten der Energieträger
B20: Erdgas | D20: Fernwärme | F20: Strom | H20: =IF(Kostenaufstellungen!E212="","And. Energieträger 1",Kostenaufstellungen!E212) -> And. Energieträger 1 | J20: =IF(Kostenaufstellungen!E294="","And. Energieträger 2",Kostenaufstellungen!E294) -> And. Energieträger 2 | L20: =IF(Kostenaufstellungen!E376="","And. Energieträger 3",Kostenaufstellungen!E376) -> And. Energieträger 3
A21: Faktor Preiserhöhung 2022 ggü. 2021 (vgl. Tabellenblatt 'Stufe 1') | B21: =IF('Stufe 1'!F20="Dateneingabe fehlt","Daten fehlen",'Stufe 1'!F20) -> Daten fehlen | D21: =IF('Stufe 1'!F27="Dateneingabe fehlt","Daten fehlen",'Stufe 1'!F27) -> Daten fehlen | F21: =IF('Stufe 1'!F34="Dateneingabe fehlt","Daten fehlen",'Stufe 1'!F34) -> Daten fehlen | H21: =IF('Stufe 1'!F46="Dateneingabe fehlt","Daten fehlen",'Stufe 1'!F46) -> Daten fehlen | J21: =IF('Stufe 1'!F54="Dateneingabe fehlt","Daten fehlen",'Stufe 1'!F54) -> Daten fehlen | L21: =IF('Stufe 1'!F62="Dateneingabe fehlt","Daten fehlen",'Stufe 1'!F62) -> Daten fehlen
A22: Prüfung: Mindestfaktor von 2,00 erreicht | B22: =IF(B21="Daten fehlen","Daten fehlen",IF(B21>=2,"Erfüllt","Nicht erfüllt")) -> Daten fehlen | D22: =IF(D21="Daten fehlen","Daten fehlen",IF(D21>=2,"Erfüllt","Nicht erfüllt")) -> Daten fehlen | F22: =IF(F21="Daten fehlen","Daten fehlen",IF(F21>=2,"Erfüllt","Nicht erfüllt")) -> Daten fehlen | H22: =IF(H21="Daten fehlen","Daten fehlen",IF(H21>=2,"Erfüllt","Nicht erfüllt")) -> Daten fehlen | J22: =IF(J21="Daten fehlen","Daten fehlen",IF(J21>=2,"Erfüllt","Nicht erfüllt")) -> Daten fehlen | L22: =IF(L21="Daten fehlen","Daten fehlen",IF(L21>=2,"Erfüllt","Nicht erfüllt")) -> Daten fehlen
A24: Verbrauch für das Kalenderjahr 2022 in der jeweiligen Handelseinheit | B24: ='Stufe 1'!F19 -> Dateneingabe fehlt | D24: ='Stufe 1'!F26 -> Dateneingabe fehlt | F24: ='Stufe 1'!F33 -> Dateneingabe fehlt | H24: ='Stufe 1'!F45 -> Dateneingabe fehlt | J24: ='Stufe 1'!F53 -> Dateneingabe fehlt | L24: ='Stufe 1'!F61 -> Dateneingabe fehlt
A25: (vgl. Tabellenblatt 'Kostenaufstellung')
A26: (§) Verbrauch von Juli bis Dezember 2022 in der jeweiligen Handelseinheit | N26: =IF(S26=1,"Daten fehlen","") -> Daten fehlen | S26: =IF(SUM(B26:L26)=0,1,0) -> 1
B27: =IFERROR(IF(B26>B24,"Bitte Eingabe prüfen",""),"") | D27: =IFERROR(IF(D26>D24,"Bitte Eingabe prüfen",""),"") | F27: =IFERROR(IF(F26>F24,"Bitte Eingabe prüfen",""),"") | H27: =IFERROR(IF(H26>H24,"Bitte Eingabe prüfen",""),"") | J27: =IFERROR(IF(J26>J24,"Bitte Eingabe prüfen",""),"") | L27: =IFERROR(IF(L26>L24,"Bitte Eingabe prüfen",""),"")
A29: Ergebnis: Kosten nach Durchschnittspreisen 2022 | B29: =IF($B$26=0,"Daten fehlen",IF($B$22="Erfüllt",('Stufe 1'!$F$18)*$B$26,"Kein Ansatz")) -> Daten fehlen | D29: =IF($D$26=0,"Daten fehlen",IF($D$22="Erfüllt",'Stufe 1'!F25*$D$26,"Kein Ansatz")) -> Daten fehlen | F29: =IF($F$26=0,"Daten fehlen",IF($F$22="Erfüllt",('Stufe 1'!$F$32)*$F$26,"Kein Ansatz")) -> Daten fehlen | H29: =IF($H$26=0,"Daten fehlen",IF($H$22="Erfüllt",('Stufe 1'!$F$44)*$H$26,"Kein Ansatz")) -> Daten fehlen | J29: =IF($J$26=0,"Daten fehlen",IF($J$22="Erfüllt",('Stufe 1'!$F$52)*$J$26,"Kein Ansatz")) -> Daten fehlen | L29: =IF($L$26=0,"Daten fehlen",IF($L$22="Erfüllt",('Stufe 1'!$F$60)*$L$26,"Kein Ansatz")) -> Daten fehlen
A30: Ergebnis: Mehrkosten nach Durchschnittspreisen 2022 ggü. 2021 | B30: =IF($B$26=0,"Daten fehlen",IF($B$22="Erfüllt",('Stufe 1'!$F$18-'Stufe 1'!$D$18)*$B$26,"Kein Ansatz")) -> Daten fehlen | D30: =IF($D$26=0,"Daten fehlen",IF($D$22="Erfüllt",('Stufe 1'!$F$25-'Stufe 1'!$D$25)*$D$26,"Kein Ansatz")) -> Daten fehlen | F30: =IF($F$26=0,"Daten fehlen",IF($F$22="Erfüllt",('Stufe 1'!$F$32-'Stufe 1'!$D$32)*$F$26,"Kein Ansatz")) -> Daten fehlen | H30: =IF($H$26=0,"Daten fehlen",IF($H$22="Erfüllt",('Stufe 1'!$F$44-'Stufe 1'!$D$44)*$H$26,"Kein Ansatz")) -> Daten fehlen | J30: =IF($J$26=0,"Daten fehlen",IF($J$22="Erfüllt",('Stufe 1'!$F$52-'Stufe 1'!$D$52)*$J$26,"Kein Ansatz")) -> Daten fehlen | L30: =IF($L$26=0,"Daten fehlen",IF($L$22="Erfüllt",('Stufe 1'!$F$60-'Stufe 1'!$D$60)*$L$26,"Kein Ansatz")) -> Daten fehlen
A31: davon 80% | B31: =IF(B30="Daten fehlen","Daten fehlen",(IF(B29="Kein Ansatz","Kein Ansatz",ROUND(B30*0.8,2)))) -> Daten fehlen | D31: =IF(D30="Daten fehlen","Daten fehlen",(IF(D29="Kein Ansatz","Kein Ansatz",ROUND(D30*0.8,2)))) -> Daten fehlen | F31: =IF(F30="Daten fehlen","Daten fehlen",(IF(F29="Kein Ansatz","Kein Ansatz",ROUND(F30*0.8,2)))) -> Daten fehlen | H31: =IF(H30="Daten fehlen","Daten fehlen",(IF(H29="Kein Ansatz","Kein Ansatz",ROUND(H30*0.8,2)))) -> Daten fehlen | J31: =IF(J30="Daten fehlen","Daten fehlen",(IF(J29="Kein Ansatz","Kein Ansatz",ROUND(J30*0.8,2)))) -> Daten fehlen | L31: =IF(L30="Daten fehlen","Daten fehlen",(IF(L29="Kein Ansatz","Kein Ansatz",ROUND(L30*0.8,2)))) -> Daten fehlen
A33: Gesamte berücksichtigungsfähige Energie-Mehrkosten (100%) | B33: =IF(SUM(B30:N30)=0,"Daten fehlen",SUM(B30:N30)) -> Daten fehlen | D33: (Summe Zeile 30)
A34: davon 80% | B34: =IF(SUM(B31:N31)=0,"Daten fehlen",ROUND(SUM(B31:N31),2)) -> Daten fehlen | C34: 2 | D34: (Summe Zeile 31)
A37: Ermittlung des maßgeblichen Ergebnisses nach steuerlichen Vorschriften
A39: Form der steuerlichen Gewinnermittlung 2022 (Antragsteller): | B39: Steuerbilanz/Handelsbilanz m. Überleitung | F39: =IF(Q39=1,"Bitte Auswahl treffen","") | P39: =IFERROR(VLOOKUP(B39,I_SV!K11:L13,2,FALSE),0) -> 1 | Q39: =IF(B39="",1,0) -> 0 | S39: =Q39 -> 0
A41: Für den Antragsteller und die verbundenen Unternehmen | B41: Anteil für den Leistungszeitraum Jul. bis Dez. 2022
A42: =IFERROR(VLOOKUP(P39,I_SV!K16:L18,2,FALSE),"") -> (§) Anteiliges Ergebnis Steuerbilanz/Überleitungsr. o. außerbilanzielle Korrekturen | C42: Antragsteller | F42: Verluste und Ausgaben sind negativ einzugeben.
A43: =IFERROR(VLOOKUP(P39,I_SV!K22:L24,2,FALSE),"")
A44: =IFERROR(VLOOKUP(P39,I_SV!K28:L30,2,FALSE),"") | F44: Abschreibungen und Jahresbeträge sind gleichmäßig auf die Kalendermonate zu verteilen.
A45: =IFERROR(VLOOKUP(P39,I_SV!K33:L35,2,FALSE),"")
A46: (§) Sonderbetriebseinnahmen der Gesellschafter | F46: Bei Gesellschaften inklusive Werte der Sonderbilanz I und II, jedoch | P46: =IFERROR(IF(AND($P$39<3,$Q$46<=9,$Q$46>2),1,0),0) -> 0 | Q46: =Stammdaten!#REF! -> #REF!
A47: (§) Sonderbetriebsausgaben der Gesellschafter | F47: ohne Werte der Ergänzungsbilanz
A48: (§) Summe Ergebnis verbundene Unternehmen
A50: Summe (Maßgebliches Ergebnis nach steuerlichen Vorschriften für den | B50: =IF(Q39=1,0,SUM(B42:B49)) -> 0 | C50: 3 | D50: =IF(S50=1,"Dateneingabe fehlt","") -> Dateneingabe fehlt | H50: =IF(B50>0,"Kein Verlust","") | S50: =IF(B50=0,1,0) -> 1
A51: Leistungszeitraum Juli bis Dezember 2022)
A54: Prüfung der Leistungsvoraussetzungen
A56: Prüfung: Existenzgefährdung | B56: =IF(OR(B34=0,B50=0,S26=1),"Daten fehlen",IF(AND(B34>=(-0.5*B50),B50<0),"Erfüllt","Nicht erfüllt")) -> Daten fehlen | F56: Eine Existenzbedrohung liegt vor, wenn die Mehrkosten für Energie nach Durschnittspreisen mindestens 50% des Verlustes betragen. | P56: =IF(B56="Erfüllt",1,0) -> 0
A59: Prüfung: Mindestenergieintensität von 5% erreicht (Ergebnis 1)? | B59: =IF(OR(B8="Daten fehlen",F10="Daten fehlen"),"Daten fehlen",IF(OR(B8>=0.05,AND(P10=1,F10>=0.05)),"Erfüllt","Nicht erfüllt")) -> Daten fehlen | P59: =IF(B59="Erfüllt",1,0) -> 0
A61: (§) Liegt eine positive Fortführungsprognose bis April 2024 mit Bestätigung durch einen Steuerberater, Wirtschaftsprüfer oder Rechtsanwalt vor? | D61: =IF(Q61=1,"Bitte Auswahl treffen","") -> Bitte Auswahl treffen | F61: Eine positive Fortführungsprognose mit Rentabilitätsvorschau und Liquiditätsplan mit Bestätigung eines prüfenden Dritten bis einschließlich April 2024 unter Berücksichtigung des Leistungsbetrags ist erforderlich. Hierfür steht ein separates Formular zur Verfügung. | P61: =IF(B61="JA",1,0) -> 0 | Q61: =IF(B61="",1,0) -> 1 | S61: =Q61 -> 1
A65: Sonstige Leistungsausschlüsse | B65: =IF(P65=1,"Genereller Leistungsausschluss (vgl. Zeilen 29 bis 41 im Tabellenblatt 'Stammdaten')","") | P65: =IF(Stammdaten!BD43=1,0,IF(Stammdaten!BE43=1,1,0)) -> 0
B66: =IF(P66=1,"Unternehmen in Schwierigkeiten (vgl. Zeile 45 im Tabellenblatt 'Stammdaten')","") | P66: =IF(Stammdaten!BD45=1,0,IF(Stammdaten!BE45=1,1,0)) -> 0
B67: =IF(P67=1,"Großbetrieb (vgl. Zeile 75 im Tabellenblatt 'Stammdaten')","") | P67: =IF(Stammdaten!BF75=4,1,0) -> 0
...

Sheet Ergebnis
A1: Gesamt-Berechnungsergebnis | G1: =Stammdaten!AN1 -> V. 1.0.2
A3: Hier wird das Gesamt-Berechnungsergebnis der Stufen dargestellt. Die Berechnung hat keine Rechtsverbindlichkeit. Maßgeblich ist allein der Bewilligungsbescheid der Sächsischen Aufbaubank.
A5: Voraussichtlicher Leistungsbetrag Stufe 1 (vgl. Tabellenblatt 'Stufe 1') | C5: ='Stufe 1'!J66 -> 0 | E5: Die Dateneingaben in folgenden Tabellen sind vollständig: | H5: =(C5/C15)*I18 -> #DIV/0!
A6: Voraussichtlicher Leistungsbetrag Stufe 2 (vgl. Tabellenblatt 'Stufe 2 und 3') | C6: ='Stufe 2 und 3'!B82 -> 0 | H6: =(H7/C15)*I18 -> #DIV/0!
A7: Kürzung des voraussichtlichen Leistungsbetrags der Stufe 2 um Leistungen der Stufe 1 (Anrechnung) | C7: =IF((C6-C5)<0,-C6,-C5) -> 0 | E7: Tabellenblatt 'Stammdaten': | F7: =IF(Stammdaten!$BD$118=1,"Nein","Ja") -> Nein | H7: =SUM(C6:C7) -> 0 | J7: =IF(Stammdaten!$BD$118=1,1,0) -> 1
A8: Zwischensumme 1 (Stufe 1 und 2 vor Höchstbetrag) | C8: =SUM(C5:C7) -> 0 | E8: Tabellenblatt 'Betriebsstätten': | F8: =IF(Betriebsstätten!$T$82>0,"Nein","Ja") -> Nein | H8: =C18/C8 -> #VALUE! | J8: =IF(Betriebsstätten!$T$82=1,1,0) -> 1
E9: Tabellenblatt 'Kostenaufstellung': | F9: =IF(Kostenaufstellungen!$P$456=1,"Nein","Ja") -> Ja | J9: =IF(Kostenaufstellungen!$P$456=1,1,0) -> 0
A10: Beantragter Leistungsbetrag Härtefallkommission - Stufe 3 (vgl. Tabellenblatt 'Stufe 2 und 3') | C10: ='Stufe 2 und 3'!Q90 -> 0 | E10: Tabellenblatt 'Stufe 2 und 3': | F10: =IF('Stufe 2 und 3'!$S$93=1,"Nein","Ja") -> Ja | G10: (nicht erforderlich für die Anzeige des Leistungsbetrags)
A11: Anrechnung der Leistungen der Stufe 1 und 2 (Zwischensumme 1) | C11: =IF((C10-C8)<0,-C10,-C8) -> 0 | E11: Tabellenblatt "Ergebnis": | F11: =IF(Ergebnis!$J$26=1,"Nein","Ja") -> Ja | J11: =IF(Ergebnis!$J$26=1,1,0) -> 0
A12: Zwischensumme 2 (Stufe 3 vor Höchstbetrag) | C12: =SUM(C10:C11) -> 0 | H12: =(C8+C12) -> 0 | I12: =C15/H12 -> #DIV/0! | J12: =MAX(J7:J11) -> 1
E13: Erst bei einer vollständigen Eingabe soll die Berechnungshilfe im Förderportal hochgeladen werden.
A14: Kürzung um Leistungen aus Programmen des Bundes und der Länder (s. nachstehende Tabelle) | C14: =-F45 -> 0 | E14: Der Leistungsbetrag wird bis zur vollständigen Eingabe mit "Dateneingabe fehlt" ausgewiesen.
A15: Zwischensumme 3 (voraussichtlicher Leistungsbetrag Stufe 1 bis 3 nach Anrechnung anderer Leistungen) | C15: =IF((C8+C12+C14)<0,0,(C8+C12+C14)) -> 0 | D15: 1
A17: =CONCATENATE(IF(AND('Stufe 2 und 3'!P88=1,'Stufe 2 und 3'!P90=0),"Erhöhter ","Regel-"),"Höchstbetrag") -> Regel-Höchstbetrag | C17: =IF(AND('Stufe 2 und 3'!P88=1,'Stufe 2 und 3'!P90=0,'Stufe 2 und 3'!P3=1),500000,100000) -> 100000 | D17: 2
A18: Voraussichtlicher Gesamtleistungsbetrag | C18: =IF(J12=1,"Dateneingabe fehlt",MIN(C15:C17)) -> Dateneingabe fehlt | E18: Übertrag ins Förderportal | I18: =C18/C15 -> #VALUE!
A22: Anzurechnende Leistungen des Bundes und der Länder für Energiekosten im Leistungszeitraum Juli bis Dezember 2022
A26: (§) Haben Sie Zuschüsse für Energiekosten aus anderen Programmen des Bundes und der Länder für den Leistungszeitraum Juli bis Dezember 2022 erhalten? | C26: Nein | E26: =IF(J26=1,"Bitte Auswahl treffen","") | H26: =IF(C26="Ja",1,0) -> 0 | J26: =IF(C26="",1,0) -> 0
F28: Übernahme für weitere Berechnung
A29: (§) Programmname | B29: (§) Bund | C29: (§) Freistaat Sachsen/ Andere Bundesländer | D29: (§) Leistungszeitraum | F29: (§) Anteil für den Leistungszeitraum Juli bis Dezember 2022 für die sächsischen Betriebsstätten
A30: Energiekostendämpfungsprogramm des BAFA
A31: Kleinbeihilfe für die Landwirtschaft
A32: Anpassungsbeihilfe für die Landwirtschaft
A33: Krisenbeihilfen für die Aquakultur im Freistaat Sachsen
A45: Summen | B45: =SUM(B30:B44) -> 0 | C45: =SUM(C30:C44) -> 0 | F45: =SUM(F30:F44) -> 0

Sheet SAB
A1: Für Zwecke der SAB | H1: =Stammdaten!AN1 -> V. 1.0.2
A3: Vollständigkeit Daten
A4: Tabelle 'Stammdaten': | B4: =IF(Stammdaten!$BD$118=1,"Nein","Ja") -> Nein
A5: Tabelle 'Betriebsstätten': | B5: =IF(Betriebsstätten!$T$82=1,"Nein","Ja") -> Nein
A6: Tabelle 'Kostenaufstellung': | B6: =IF(Kostenaufstellungen!$P$456=1,"Nein","Ja") -> Ja | C6: Verbräuche angegeben: | D6: =IF(Kostenaufstellungen!Q456=0,"Nein","Ja") -> Nein
A7: Tabelle 'Stufe 2 und 3': | B7: =IF('Stufe 2 und 3'!$S$93=1,"Nein","Ja") -> Ja | C7: Antrag Stufe 2: | D7: =IF('Stufe 2 und 3'!P3=0,"Nein","Ja") -> Nein | E7: Antrag Stufe 3: | F7: =IF('Stufe 2 und 3'!P88=0,"Nein","Ja") -> Nein
A8: Tabelle "Ergebnis": | B8: =IF(Ergebnis!$J$26=1,"Nein","Ja") -> Ja
A10: Überkompensationsprüfung (Stufe 2 und 3)
A11: Energiemehrkosten | D11: =IF('Stufe 2 und 3'!B33="Daten fehlen","",'Stufe 2 und 3'!B33) | E11: lt. Tabellenblatt "Stufe 2 und 3"
A12: Voraussichtlicher Leistungsbetrag | D12: =IFERROR(-Ergebnis!C18,"") | E12: lt. Tabellenblatt "Ergebnis"
A13: verbleiben | D13: =IFERROR(D11+D12,"")
A15: Dezember-Hilfe | D15: =IF((Stammdaten!AE85+Stammdaten!AE87)=0,"",-Stammdaten!AE85+Stammdaten!AE87)
A16: Eigenbeitrag nach Anrechnung Dezember-Hilfe | D16: =IFERROR(D13+D15,"")
A18: Verbleiben 5 % der Energiemehrkosten als Eigenbeitrag? | C18: =IFERROR(IF(D16>D17,"Ja","Nein"),"") -> Nein | D18: =IFERROR(D11*0.05,"") | E18: (Eigenbeitrag 5% der Energiemehrkosten)
A20: Datenerfassung - Daten zu den Energieträgern (Leistungszeitraum 2022)
D21: Umrechner
D22: Handelseinheit: | E22: =IF(Kostenaufstellungen!G212=0,"",Kostenaufstellungen!G212) | F22: =IF(Kostenaufstellungen!G294=0,"",Kostenaufstellungen!G294) | G22: =IF(Kostenaufstellungen!G376=0,"",Kostenaufstellungen!G376)
D23: Verbrauch 2021: | E23: =Kostenaufstellungen!F240 -> Dateneingabe fehlt | F23: =Kostenaufstellungen!F322 -> Dateneingabe fehlt | G23: =Kostenaufstellungen!F404 -> Dateneingabe fehlt
D24: Verbrauch 2022: | E24: =Kostenaufstellungen!F279 -> Dateneingabe fehlt | F24: =Kostenaufstellungen!F361 -> Dateneingabe fehlt | G24: =Kostenaufstellungen!F443 -> Dateneingabe fehlt
D25: Durchschnittspreis 2021: | E25: =Kostenaufstellungen!F251 -> Dateneingabe fehlt | F25: =Kostenaufstellungen!F333 -> Dateneingabe fehlt | G25: =Kostenaufstellungen!F415 -> Dateneingabe fehlt
D26: Durchschnittspreis 2022: | E26: =Kostenaufstellungen!F290 -> Dateneingabe fehlt | F26: =Kostenaufstellungen!F372 -> Dateneingabe fehlt | G26: =Kostenaufstellungen!F454 -> Dateneingabe fehlt
A28: ET_Name | B28: =B92 -> Erdgas | C28: =C92 -> Fernwärme | D28: =D92 -> Strom | E28: =E92 -> And. Energieträger 1 | F28: =F92 -> And. Energieträger 2 | G28: =G92 -> And. Energieträger 3 | I28: Name des Energieträgers
A29: ET_Pr_2021 (pro kWh) | B29: =Kostenaufstellungen!F39 -> Dateneingabe fehlt | C29: =Kostenaufstellungen!F107 -> Dateneingabe fehlt | D29: =Kostenaufstellungen!F175 -> Dateneingabe fehlt | E29: <personell> | F29: <personell> | G29: <personell> | I29: Preis 21 bez. Energieträger
A30: LZ_ET_Pr (pro kWh) | B30: =Kostenaufstellungen!F72 -> Dateneingabe fehlt | C30: =Kostenaufstellungen!F140 -> Dateneingabe fehlt | D30: =Kostenaufstellungen!F208 -> Dateneingabe fehlt | E30: <personell> | F30: <personell> | G30: <personell> | I30: Preis im LZ bez. Energieträger
A31: ET_Vrb_2021 (in kWh) | B31: =Kostenaufstellungen!F28 -> Dateneingabe fehlt | C31: =Kostenaufstellungen!F96 -> Dateneingabe fehlt | D31: =Kostenaufstellungen!F164 -> Dateneingabe fehlt | E31: <personell> | F31: <personell> | G31: <personell> | I31: Verbrauchte Energieträger 21
A32: LZ_ET_Vrb (in kWh) | B32: ='Stufe 2 und 3'!B26 -> 0 | C32: ='Stufe 2 und 3'!D26 -> 0 | D32: ='Stufe 2 und 3'!F26 -> 0 | E32: <personell> | F32: <personell> | G32: <personell> | I32: Verbrauchte Energieträger LZ
A33: ET_Leist | B33: =B93 -> 0 | C33: =C93 -> 0 | D33: =D93 -> 0 | E33: =E93 -> 0 | F33: =F93 -> 0 | G33: =G93 -> 0 | I33: Leistungsbet. Energieträger LZ
B34: =IF(B33=0,1,0) -> 1 | C34: =IF(C33=0,1,0) -> 1 | D34: =IF(D33=0,1,0) -> 1 | E34: =IF(E33=0,1,0) -> 1 | F34: =IF(F33=0,1,0) -> 1 | G34: =IF(G33=0,1,0) -> 1
A36: Details
A37: Leistungen Stufe 1 | D37: Leistungsvoraussetzungen: | F37: =IF('Stufe 1'!M13=1,"Nicht erfüllt","Erfüllt") -> Erfüllt
B39: Erdgas | C39: Fernwärme | D39: Strom | E39: ='Stufe 2 und 3'!$H$20 -> And. Energieträger 1 | F39: ='Stufe 2 und 3'!$J$20 -> And. Energieträger 2 | G39: ='Stufe 2 und 3'!$L$20 -> And. Energieträger 3 | I39: Summe
A40: Leistungsbetrag vor Höchstbetrag | B40: ='Stufe 1'!J22 -> 0 | C40: ='Stufe 1'!J29 -> 0 | D40: ='Stufe 1'!J36 -> 0 | E40: ='Stufe 1'!J48 -> 0 | F40: ='Stufe 1'!J56 -> 0 | G40: ='Stufe 1'!J64 -> 0 | I40: =SUM(B40:G40) -> 0
A41: Anteil an Summe | B41: =IFERROR(ROUND(B40/$I$40,4),"") | C41: =IFERROR(ROUND(C40/$I$40,4),"") | D41: =IFERROR(ROUND(D40/$I$40,4),"") | E41: =IFERROR(ROUND(E40/$I$40,4),"") | F41: =IFERROR(ROUND(F40/$I$40,4),"") | G41: =IFERROR(ROUND(G40/$I$40,4),"") | I41: =SUM(B41:G41) -> 0
A43: Leistungsbetrag Stufe 1 vor Höchstbetrag | C43: Anteil an Zwischensumme 1: | F43: =ROUND(Ergebnis!C5/Ergebnis!C8,4) -> #DIV/0! | I43: ='Stufe 1'!J66 -> 0
A44: Leistungsbetrag Stufe 1 nach Höchstbetrag | C44: Anteil am Gesamtleistungsbetrag nach Höchstbetrag: | F44: =Ergebnis!I12*Ergebnis!I18 -> #DIV/0! | I44: =I43*F44 -> #DIV/0!
A46: umgelegt auf die Energieträger | B46: =IFERROR(ROUND(B40*$F$44,2),0) -> 0 | C46: =IFERROR(ROUND(C40*$F$44,2),0) -> 0 | D46: =IFERROR(ROUND(D40*$F$44,2),0) -> 0 | E46: =IFERROR(ROUND(E40*$F$44,2),0) -> 0 | F46: =IFERROR(ROUND(F40*$F$44,2),0) -> 0 | G46: =IFERROR(ROUND(G40*$F$44,2),0) -> 0 | I46: =SUM(B46:G46) -> 0
A47: Ausgleich Rundungsdifferenz | B47: =IFERROR(ROUND($I$47*B41,2),0) -> 0 | C47: =IFERROR(ROUND($I$47*C41,2),0) -> 0 | D47: =IFERROR(ROUND($I$47*D41,2),0) -> 0 | E47: =IFERROR(ROUND($I$47*E41,2),0) -> 0 | F47: =IFERROR(ROUND($I$47*F41,2),0) -> 0 | G47: =IFERROR(ROUND($I$47*G41,2),0) -> 0 | I47: =(ROUND(I44-I46,2)) -> #DIV/0!
A48: verbleiben | B48: =SUM(B46:B47) -> 0 | C48: =SUM(C46:C47) -> 0 | D48: =SUM(D46:D47) -> 0 | E48: =SUM(E46:E47) -> 0 | F48: =SUM(F46:F47) -> 0 | G48: =SUM(G46:G47) -> 0 | I48: =SUM(B48:G48) -> 0
A51: Leistungen Stufe 2 | D51: Leistungsvoraussetzungen: | F51: ='Stufe 2 und 3'!B69 -> Nicht erfüllt
B53: Erdgas | C53: Fernwärme | D53: Strom | E53: ='Stufe 2 und 3'!$H$20 -> And. Energieträger 1 | F53: ='Stufe 2 und 3'!$J$20 -> And. Energieträger 2 | G53: ='Stufe 2 und 3'!$L$20 -> And. Energieträger 3 | I53: Summe
...

Sheet I_SV
A1: Auswahlliste 1 | C1: Auswahlliste 2 | F1: Rechtsformen | K1: Steuernummer | P1: Größeneinteilung
G2: Nr | H2: Register | I2: Eingabe
A3: Ja | C3: Kilogramm (kg) | F3: Natürliche Person (ohne Eintragung ins Handelsregister) | G3: 1 | H3: 0 | I3: 0 | K3: Ertragsbesteuerung (ESt, KSt, GewStMB) | P3: Kleinstbetrieb | Q3: 1
A4: Nein | C4: Zentner (ztr) | F4: Natürliche Person (mit Eintragung ins Handelsregister, e. K.) | G4: 2 | H4: 1 | I4: 0 | K4: Gesonderte (u. einheitl.) Feststellung | P4: Kleinbetrieb | Q4: 2
C5: Tonne (t) | F5: Offene Handelsgesellschaft (OHG) | G5: 3 | H5: 1 | I5: 0 | K5: Umsatzbesteuerung | P5: Mittelbetrieb | Q5: 3
C6: Kubikmeter (m³) | F6: Kommanditgesellschaft (KG) | G6: 4 | H6: 1 | I6: 0 | K6: Ertrags- und Umsatzbesteuerung | P6: Großbetrieb | Q6: 4
C7: Liter (l) | F7: Gesellschaft mit beschränkter Haftung & Co. Kommanditgesellschaft (GmbH & Co. KG) | G7: 5 | H7: 1 | I7: 0 | K7: Feststellung und Umsatzbesteuerung ggf. GewStMB
C8: Holz: Festmeter | F8: nicht eingetragene Gesellschaft des bürgerlichen Rechts (nicht eingetragene GbR) | G8: 6 | H8: 0 | I8: 0
C9: Holz: Raummeter | F9: eingetragene Gesellschaft des bürgerlichen Rechts (eGbR) | G9: 7 | H9: 1 | I9: 0 | K9: Form der Gewinnermittlung
C10: Holz: Schüttraummeter | F10: Gemeinschaft (z.B. Erben-, Grundstücks-, Haushalts-) | G10: 8 | H10: 0 | I10: 0
C11: Sonstige | F11: Partnerschaftsgesellschaft (PartG) | G11: 9 | H11: 1 | I11: 0 | K11: Steuerbilanz/Handelsbilanz m. Überleitung | L11: 1
F12: eingetragener Verein (e.V.) | G12: 10 | H12: 1 | I12: 0 | K12: Einnahme-Überschuss-Rechnung | L12: 2
F13: Wirtschaftlicher Verein | G13: 11 | H13: 0 | I13: 0 | K13: Nach Durchschnittssätzen (§ 13a EStG) | L13: 3
F14: Gesellschaft mit beschränkter Haftung (GmbH) | G14: 12 | H14: 1 | I14: 0
A15: Auswahl Betriebsstätten | F15: gemeinnützige Gesellschaft mit beschränkter Haftung (gGmbH) | G15: 13 | H15: 1 | I15: 0 | K15: Zeile 33
F16: Unternehmergesellschaft (haftungsbeschränkt) (UG (haftungsbeschränkt)) | G16: 14 | H16: 1 | I16: 0 | K16: 1 | L16: (§) Anteiliges Ergebnis Steuerbilanz/Überleitungsr. o. außerbilanzielle Korrekturen
A17: Antragsteller | F17: Aktiengesellschaft (AG) | G17: 15 | H17: 1 | I17: 0 | K17: 2 | L17: (§) Betriebseinnahmen (entsprechend Zeile 159 d. Anlage EÜR)
A18: Verbundenes Unternehmen 1 | F18: Investmentaktiengesellschaft (InvAG) | G18: 16 | H18: 1 | I18: 0 | K18: 3 | L18: (§) Steuerpflichtiger Gewinn (entsprechend Zeile 99 der Anlage 13a)
A19: Verbundenes Unternehmen 2 | F19: Europäische Aktiengesellschaft (SE) | G19: 17 | H19: 1 | I19: 0
A20: Verbundenes Unternehmen 3 | F20: Kommanditgesellschaft auf Aktien (KGaA) | G20: 18 | H20: 1 | I20: 0
A21: Verbundenes Unternehmen 4 | F21: rechtsfähige Stiftung des Privatrechts | G21: 19 | H21: 1 | I21: 0 | K21: Zeile 34
